BEGIN:VCALENDAR
VERSION:2.0
PRODID:hinto.net
X-PUBLISHED-TTL:P1W
BEGIN:VEVENT
UID:hinto.net-event_show-6898956
DTSTART:20260418T230000
SEQUENCE:0
CREATED:20260411T042607
LAST-MODIFIED:20260411T042607
TRANSP:OPAQUE
DTEND:20260419T004338
LOCATION:
SUMMARY:RTS 1: Voyagers
CLASS:PUBLIC
DESCRIPTION:
ORGANIZER:
DTSTAMP:20260419T161351
ATTACH:https://www.hinto.net/de/events/rts-1-voyagers-18-04-2026-2300-e2824354-20.html
END:VEVENT
END:VCALENDAR
