BEGIN:VCALENDAR
VERSION:2.0
PRODID:hinto.net
X-PUBLISHED-TTL:P1W
BEGIN:VEVENT
UID:hinto.net-event_show-6862639
DTSTART:20260420T014000
SEQUENCE:0
CREATED:20260329T150010
LAST-MODIFIED:20260329T150010
TRANSP:OPAQUE
DTEND:20260420T023200
LOCATION:
SUMMARY:RTS 1: Sport dimanche
CLASS:PUBLIC
DESCRIPTION:
ORGANIZER:
DTSTAMP:20260421T071353
ATTACH:https://www.hinto.net/de/events/rts-1-sport-dimanche-20-04-2026-0140-e2793255-20.html
END:VEVENT
END:VCALENDAR
