BEGIN:VCALENDAR
VERSION:2.0
PRODID:hinto.net
X-PUBLISHED-TTL:P1W
BEGIN:VEVENT
UID:hinto.net-event_show-6919318
DTSTART:20260419T045000
SEQUENCE:0
CREATED:20260417T041941
LAST-MODIFIED:20260417T041941
TRANSP:OPAQUE
DTEND:20260419T052929
LOCATION:
SUMMARY:RTS 1: Cash
CLASS:PUBLIC
DESCRIPTION:
ORGANIZER:
DTSTAMP:20260419T144532
ATTACH:https://www.hinto.net/de/events/rts-1-cash-19-04-2026-0450-e2842275-20.html
END:VEVENT
END:VCALENDAR
