BEGIN:VCALENDAR
VERSION:2.0
PRODID:hinto.net
X-PUBLISHED-TTL:P1W
BEGIN:VEVENT
UID:hinto.net-event_show-6931085
DTSTART:20260423T041800
SEQUENCE:0
CREATED:20260421T165020
LAST-MODIFIED:20260421T165020
TRANSP:OPAQUE
DTEND:20260423T053330
LOCATION:
SUMMARY:RTS 1: 36.9°
CLASS:PUBLIC
DESCRIPTION:
ORGANIZER:
DTSTAMP:20260423T190421
ATTACH:https://www.hinto.net/de/events/rts-1-36-9d-23-04-2026-0418-e2852390-20.html
END:VEVENT
END:VCALENDAR
