BEGIN:VCALENDAR
VERSION:2.0
PRODID:hinto.net
X-PUBLISHED-TTL:P1W
BEGIN:VEVENT
UID:hinto.net-event_show-6931081
DTSTART:20260423T021300
SEQUENCE:0
CREATED:20260421T165013
LAST-MODIFIED:20260421T165013
TRANSP:OPAQUE
DTEND:20260423T032830
LOCATION:
SUMMARY:RTS 1: 36.9°
CLASS:PUBLIC
DESCRIPTION:
ORGANIZER:
DTSTAMP:20260423T202542
ATTACH:https://www.hinto.net/de/events/rts-1-36-9d-23-04-2026-0213-e2852386-20.html
END:VEVENT
END:VCALENDAR
