BEGIN:VCALENDAR
VERSION:2.0
PRODID:hinto.net
X-PUBLISHED-TTL:P1W
BEGIN:VEVENT
UID:hinto.net-event_show-6931083
DTSTART:20260423T034500
SEQUENCE:0
CREATED:20260421T165017
LAST-MODIFIED:20260421T165017
TRANSP:OPAQUE
DTEND:20260423T041600
LOCATION:
SUMMARY:RTS 1: 19h30
CLASS:PUBLIC
DESCRIPTION:
ORGANIZER:
DTSTAMP:20260423T202736
ATTACH:https://www.hinto.net/de/events/rts-1-19h30-23-04-2026-0345-e2852388-20.html
END:VEVENT
END:VCALENDAR
