BEGIN:VCALENDAR
VERSION:2.0
PRODID:hinto.net
X-PUBLISHED-TTL:P1W
BEGIN:VEVENT
UID:hinto.net-event_show-6862910
DTSTART:20260419T201500
SEQUENCE:0
CREATED:20260329T151458
LAST-MODIFIED:20260329T151458
TRANSP:OPAQUE
DTEND:20260419T224500
LOCATION:
SUMMARY:RTL: Manta Manta - Zwoter Teil
CLASS:PUBLIC
DESCRIPTION:
ORGANIZER:
DTSTAMP:20260420T060831
ATTACH:https://www.hinto.net/de/events/rtl-manta-manta-zwoter-teil-19-04-2026-2015-e2793526-20.html
END:VEVENT
END:VCALENDAR
