BEGIN:VCALENDAR
VERSION:2.0
PRODID:hinto.net
X-PUBLISHED-TTL:P1W
BEGIN:VEVENT
UID:hinto.net-event_show-6864990
DTSTART:20260418T230000
SEQUENCE:0
CREATED:20260403T103348
LAST-MODIFIED:20260403T103348
TRANSP:OPAQUE
DTEND:20260419T011500
LOCATION:
SUMMARY:RTL II: The Italian Job - Jagd auf Millionen
CLASS:PUBLIC
DESCRIPTION:
ORGANIZER:
DTSTAMP:20260419T144421
ATTACH:https://www.hinto.net/de/events/rtl-ii-the-italian-job-jagd-auf-millionen-18-04-2026-2300-e2795209-20.html
END:VEVENT
END:VCALENDAR
