BEGIN:VCALENDAR
VERSION:2.0
PRODID:hinto.net
X-PUBLISHED-TTL:P1W
BEGIN:VEVENT
UID:hinto.net-event_show-6864005
DTSTART:20260419T180000
SEQUENCE:0
CREATED:20260329T160129
LAST-MODIFIED:20260329T160129
TRANSP:OPAQUE
DTEND:20260419T180300
LOCATION:
SUMMARY:Radio SRF Musikwelle: Nachrichten
CLASS:PUBLIC
DESCRIPTION:
ORGANIZER:
DTSTAMP:20260420T082720
ATTACH:https://www.hinto.net/de/events/radio-srf-musikwelle-nachrichten-19-04-2026-1800-e2794621-20.html
END:VEVENT
END:VCALENDAR
