BEGIN:VCALENDAR
VERSION:2.0
PRODID:hinto.net
X-PUBLISHED-TTL:P1W
BEGIN:VEVENT
UID:hinto.net-event_show-6867481
DTSTART:20260419T154000
SEQUENCE:0
CREATED:20260331T202158
LAST-MODIFIED:20260331T202158
TRANSP:OPAQUE
DTEND:20260419T160500
LOCATION:
SUMMARY:Puls 8: How I Met Your Mother
CLASS:PUBLIC
DESCRIPTION:
ORGANIZER:
DTSTAMP:20260420T082818
ATTACH:https://www.hinto.net/de/events/puls-8-how-i-met-your-mother-19-04-2026-1540-e2797449-20.html
END:VEVENT
END:VCALENDAR
