BEGIN:VCALENDAR
VERSION:2.0
PRODID:hinto.net
X-PUBLISHED-TTL:P1W
BEGIN:VEVENT
UID:hinto.net-event_show-6867489
DTSTART:20260419T200000
SEQUENCE:0
CREATED:20260331T202204
LAST-MODIFIED:20260331T202204
TRANSP:OPAQUE
DTEND:20260419T205500
LOCATION:
SUMMARY:Puls 8: Halbpension mit Schmitz
CLASS:PUBLIC
DESCRIPTION:
ORGANIZER:
DTSTAMP:20260420T074623
ATTACH:https://www.hinto.net/de/events/puls-8-halbpension-mit-schmitz-19-04-2026-2000-e2797457-20.html
END:VEVENT
END:VCALENDAR
