BEGIN:VCALENDAR
VERSION:2.0
PRODID:hinto.net
X-PUBLISHED-TTL:P1W
BEGIN:VEVENT
UID:hinto.net-event_show-6871723
DTSTART:20260420T000000
SEQUENCE:0
CREATED:20260402T040629
LAST-MODIFIED:20260402T040629
TRANSP:OPAQUE
DTEND:20260420T010000
LOCATION:
SUMMARY:Puls 8: Genial daneben - das Quiz
CLASS:PUBLIC
DESCRIPTION:
ORGANIZER:
DTSTAMP:20260420T093607
ATTACH:https://www.hinto.net/de/events/puls-8-genial-daneben-das-quiz-20-04-2026-0000-e2800127-20.html
END:VEVENT
END:VCALENDAR
