BEGIN:VCALENDAR
VERSION:2.0
PRODID:hinto.net
X-PUBLISHED-TTL:P1W
BEGIN:VEVENT
UID:hinto.net-event_show-6867488
DTSTART:20260419T190000
SEQUENCE:0
CREATED:20260331T202203
LAST-MODIFIED:20260331T202203
TRANSP:OPAQUE
DTEND:20260419T200000
LOCATION:
SUMMARY:Puls 8: Fixer Upper - Spezial
CLASS:PUBLIC
DESCRIPTION:
ORGANIZER:
DTSTAMP:20260420T052128
ATTACH:https://www.hinto.net/de/events/puls-8-fixer-upper-spezial-19-04-2026-1900-e2797456-20.html
END:VEVENT
END:VCALENDAR
