BEGIN:VCALENDAR
VERSION:2.0
PRODID:hinto.net
X-PUBLISHED-TTL:P1W
BEGIN:VEVENT
UID:hinto.net-event_show-6867440
DTSTART:20260419T162500
SEQUENCE:0
CREATED:20260331T202003
LAST-MODIFIED:20260331T202003
TRANSP:OPAQUE
DTEND:20260419T174500
LOCATION:
SUMMARY:ProSieben: taff weekend
CLASS:PUBLIC
DESCRIPTION:
ORGANIZER:
DTSTAMP:20260419T230853
ATTACH:https://www.hinto.net/de/events/prosieben-taff-weekend-19-04-2026-1625-e2797408-20.html
END:VEVENT
END:VCALENDAR
