BEGIN:VCALENDAR
VERSION:2.0
PRODID:hinto.net
X-PUBLISHED-TTL:P1W
BEGIN:VEVENT
UID:hinto.net-event_show-6939404
DTSTART:20260423T034500
SEQUENCE:0
CREATED:20260422T184821
LAST-MODIFIED:20260422T184821
TRANSP:OPAQUE
DTEND:20260423T043000
LOCATION:
SUMMARY:ProSieben: Galileo
CLASS:PUBLIC
DESCRIPTION:
ORGANIZER:
DTSTAMP:20260423T162051
ATTACH:https://www.hinto.net/de/events/prosieben-galileo-23-04-2026-0345-e2854745-20.html
END:VEVENT
END:VCALENDAR
