BEGIN:VCALENDAR
VERSION:2.0
PRODID:hinto.net
X-PUBLISHED-TTL:P1W
BEGIN:VEVENT
UID:hinto.net-event_show-6925484
DTSTART:20260507T203000
SEQUENCE:0
CREATED:20260419T052234
LAST-MODIFIED:20260419T052234
TRANSP:OPAQUE

LOCATION:K9
SUMMARY:Peter Lehel feat. Young Lions
CLASS:PUBLIC
DESCRIPTION:
ORGANIZER:
DTSTAMP:20260420T003232
ATTACH:https://www.hinto.net/de/events/peter-lehel-feat-young-lions-07-05-2026-2030-k9-konstanz-e2847537-20.html
END:VEVENT
END:VCALENDAR
