BEGIN:VCALENDAR
VERSION:2.0
PRODID:hinto.net
X-PUBLISHED-TTL:P1W
BEGIN:VEVENT
UID:hinto.net-event_show-6862837
DTSTART:20260419T131700
SEQUENCE:0
CREATED:20260329T151052
LAST-MODIFIED:20260329T151052
TRANSP:OPAQUE
DTEND:20260419T132000
LOCATION:
SUMMARY:ORF 2: Wetter
CLASS:PUBLIC
DESCRIPTION:
ORGANIZER:
DTSTAMP:20260419T185743
ATTACH:https://www.hinto.net/de/events/orf-2-wetter-19-04-2026-1317-e2793453-20.html
END:VEVENT
END:VCALENDAR
