BEGIN:VCALENDAR
VERSION:2.0
PRODID:hinto.net
X-PUBLISHED-TTL:P1W
BEGIN:VEVENT
UID:hinto.net-event_show-6862855
DTSTART:20260419T200500
SEQUENCE:0
CREATED:20260329T151227
LAST-MODIFIED:20260329T151227
TRANSP:OPAQUE
DTEND:20260419T201500
LOCATION:
SUMMARY:ORF 2: Seitenblicke
CLASS:PUBLIC
DESCRIPTION:
ORGANIZER:
DTSTAMP:20260420T054535
ATTACH:https://www.hinto.net/de/events/orf-2-seitenblicke-19-04-2026-2005-e2793471-20.html
END:VEVENT
END:VCALENDAR
