BEGIN:VCALENDAR
VERSION:2.0
PRODID:hinto.net
X-PUBLISHED-TTL:P1W
BEGIN:VEVENT
UID:hinto.net-event_show-6862842
DTSTART:20260419T160000
SEQUENCE:0
CREATED:20260329T151058
LAST-MODIFIED:20260329T151058
TRANSP:OPAQUE
DTEND:20260419T163000
LOCATION:
SUMMARY:ORF 2: Hereinspaziert!
CLASS:PUBLIC
DESCRIPTION:
ORGANIZER:
DTSTAMP:20260419T221156
ATTACH:https://www.hinto.net/de/events/orf-2-hereinspaziert!-19-04-2026-1600-e2793458-20.html
END:VEVENT
END:VCALENDAR
