BEGIN:VCALENDAR
VERSION:2.0
PRODID:hinto.net
X-PUBLISHED-TTL:P1W
BEGIN:VEVENT
UID:hinto.net-event_show-6862843
DTSTART:20260419T163000
SEQUENCE:0
CREATED:20260329T151059
LAST-MODIFIED:20260329T151059
TRANSP:OPAQUE
DTEND:20260419T165500
LOCATION:
SUMMARY:ORF 2: Erlebnis Österreich
CLASS:PUBLIC
DESCRIPTION:
ORGANIZER:
DTSTAMP:20260419T205744
ATTACH:https://www.hinto.net/de/events/orf-2-erlebnis-oesterreich-19-04-2026-1630-e2793459-20.html
END:VEVENT
END:VCALENDAR
