BEGIN:VCALENDAR
VERSION:2.0
PRODID:hinto.net
X-PUBLISHED-TTL:P1W
BEGIN:VEVENT
UID:hinto.net-event_show-6862839
DTSTART:20260419T133500
SEQUENCE:0
CREATED:20260329T151054
LAST-MODIFIED:20260329T151054
TRANSP:OPAQUE
DTEND:20260419T140500
LOCATION:
SUMMARY:ORF 2: Daheim - das Volksgruppenmagazin
CLASS:PUBLIC
DESCRIPTION:
ORGANIZER:
DTSTAMP:20260419T223444
ATTACH:https://www.hinto.net/de/events/orf-2-daheim-das-volksgruppenmagazin-19-04-2026-1335-e2793455-20.html
END:VEVENT
END:VCALENDAR
