BEGIN:VCALENDAR
VERSION:2.0
PRODID:hinto.net
X-PUBLISHED-TTL:P1W
BEGIN:VEVENT
UID:hinto.net-event_show-6859428
DTSTART:20260418T232500
SEQUENCE:0
CREATED:20260328T054056
LAST-MODIFIED:20260328T054056
TRANSP:OPAQUE
DTEND:20260419T005500
LOCATION:
SUMMARY:ORF 2: Columbo - Undercover
CLASS:PUBLIC
DESCRIPTION:
ORGANIZER:
DTSTAMP:20260419T203359
ATTACH:https://www.hinto.net/de/events/orf-2-columbo-undercover-18-04-2026-2325-e2790607-20.html
END:VEVENT
END:VCALENDAR
