BEGIN:VCALENDAR
VERSION:2.0
PRODID:hinto.net
X-PUBLISHED-TTL:P1W
BEGIN:VEVENT
UID:hinto.net-event_show-6862807
DTSTART:20260419T123000
SEQUENCE:0
CREATED:20260329T151020
LAST-MODIFIED:20260329T151020
TRANSP:OPAQUE
DTEND:20260419T124000
LOCATION:
SUMMARY:ORF 1: Vienna City Marathon 2026
CLASS:PUBLIC
DESCRIPTION:
ORGANIZER:
DTSTAMP:20260419T224554
ATTACH:https://www.hinto.net/de/events/orf-1-vienna-city-marathon-2026-19-04-2026-1230-e2793423-20.html
END:VEVENT
END:VCALENDAR
