BEGIN:VCALENDAR
VERSION:2.0
PRODID:hinto.net
X-PUBLISHED-TTL:P1W
BEGIN:VEVENT
UID:hinto.net-event_show-6872306
DTSTART:20260423T025000
SEQUENCE:0
CREATED:20260402T044500
LAST-MODIFIED:20260402T044500
TRANSP:OPAQUE
DTEND:20260423T033500
LOCATION:
SUMMARY:ORF 1: SOKO Donau
CLASS:PUBLIC
DESCRIPTION:
ORGANIZER:
DTSTAMP:20260423T174904
ATTACH:https://www.hinto.net/de/events/orf-1-soko-donau-23-04-2026-0250-e2800710-20.html
END:VEVENT
END:VCALENDAR
