BEGIN:VCALENDAR
VERSION:2.0
PRODID:hinto.net
X-PUBLISHED-TTL:P1W
BEGIN:VEVENT
UID:hinto.net-event_show-6863806
DTSTART:20260419T122000
SEQUENCE:0
CREATED:20260329T155847
LAST-MODIFIED:20260329T155847
TRANSP:OPAQUE
DTEND:20260419T124500
LOCATION:
SUMMARY:Nickelodeon / CC: Die Thundermans: Undercover
CLASS:PUBLIC
DESCRIPTION:
ORGANIZER:
DTSTAMP:20260419T173918
ATTACH:https://www.hinto.net/de/events/nickelodeon-cc-die-thundermans-undercover-19-04-2026-1220-e2794422-20.html
END:VEVENT
END:VCALENDAR
