BEGIN:VCALENDAR
VERSION:2.0
PRODID:hinto.net
X-PUBLISHED-TTL:P1W
BEGIN:VEVENT
UID:hinto.net-event_show-6870992
DTSTART:20261217T183000
SEQUENCE:0
CREATED:20260401T054157
LAST-MODIFIED:20260401T054157
TRANSP:OPAQUE
DTEND:20261217T000000
LOCATION:Monti-Winterquartier
SUMMARY:Monti's Variété
CLASS:PUBLIC
DESCRIPTION:
ORGANIZER:
DTSTAMP:20260420T065627
ATTACH:https://www.hinto.net/de/events/montis-variete-17-12-2026-1830-monti-winterquartier-wohlen-e2799535-20.html
END:VEVENT
END:VCALENDAR
