BEGIN:VCALENDAR
VERSION:2.0
PRODID:hinto.net
X-PUBLISHED-TTL:P1W
BEGIN:VEVENT
UID:hinto.net-event_show-6726117
DTSTART:20260622T150000
SEQUENCE:0
CREATED:20260218T024253
LAST-MODIFIED:20260218T024253
TRANSP:OPAQUE

LOCATION:
SUMMARY:Landschaften in Oel
CLASS:PUBLIC
DESCRIPTION:
ORGANIZER:
DTSTAMP:20260421T050151
ATTACH:https://www.hinto.net/de/events/landschaften-in-oel-22-06-2026-1500-e2689191-20.html
END:VEVENT
END:VCALENDAR
