BEGIN:VCALENDAR
VERSION:2.0
PRODID:hinto.net
X-PUBLISHED-TTL:P1W
BEGIN:VEVENT
UID:hinto.net-event_show-6910445
DTSTART:20260418T231500
SEQUENCE:0
CREATED:20260418T091831
LAST-MODIFIED:20260418T091831
TRANSP:OPAQUE
DTEND:20260419T012842
LOCATION:
SUMMARY:La 2: Fast & Furious 9 - The Fast Saga
CLASS:PUBLIC
DESCRIPTION:
ORGANIZER:
DTSTAMP:20260420T000027
ATTACH:https://www.hinto.net/de/events/la-2-fast-furious-9-the-fast-saga-18-04-2026-2315-e2834579-20.html
END:VEVENT
END:VCALENDAR
