BEGIN:VCALENDAR
VERSION:2.0
PRODID:hinto.net
X-PUBLISHED-TTL:P1W
BEGIN:VEVENT
UID:hinto.net-event_show-6922218
DTSTART:20260528T121500
SEQUENCE:0
CREATED:20260418T044636
LAST-MODIFIED:20260418T044636
TRANSP:OPAQUE

LOCATION:Vorarlberg Museum
SUMMARY:Konzert am Mittag
CLASS:PUBLIC
DESCRIPTION:
ORGANIZER:
DTSTAMP:20260419T182532
ATTACH:https://www.hinto.net/de/events/konzert-am-mittag-28-05-2026-1215-vorarlberg-museum-bregenz-e2755968-20.html
END:VEVENT
END:VCALENDAR
