BEGIN:VCALENDAR
VERSION:2.0
PRODID:hinto.net
X-PUBLISHED-TTL:P1W
BEGIN:VEVENT
UID:hinto.net-event_show-6743148
DTSTART:20260507T200000
SEQUENCE:0
CREATED:20260222T200649
LAST-MODIFIED:20260222T200649
TRANSP:OPAQUE

LOCATION:Kula
SUMMARY:Konstanz singt!
CLASS:PUBLIC
DESCRIPTION:
ORGANIZER:
DTSTAMP:20260419T222433
ATTACH:https://www.hinto.net/de/events/konstanz-singt!-07-05-2026-2000-kula-konstanz-e2702767-20.html
END:VEVENT
END:VCALENDAR
