BEGIN:VCALENDAR
VERSION:2.0
PRODID:hinto.net
X-PUBLISHED-TTL:P1W
BEGIN:VEVENT
UID:hinto.net-event_show-6862981
DTSTART:20260419T120000
SEQUENCE:0
CREATED:20260329T151736
LAST-MODIFIED:20260329T151736
TRANSP:OPAQUE
DTEND:20260419T133000
LOCATION:
SUMMARY:KiKa: Zwerg Nase
CLASS:PUBLIC
DESCRIPTION:
ORGANIZER:
DTSTAMP:20260419T233653
ATTACH:https://www.hinto.net/de/events/kika-zwerg-nase-19-04-2026-1200-e2793597-20.html
END:VEVENT
END:VCALENDAR
