BEGIN:VCALENDAR
VERSION:2.0
PRODID:hinto.net
X-PUBLISHED-TTL:P1W
BEGIN:VEVENT
UID:hinto.net-event_show-6862998
DTSTART:20260419T201500
SEQUENCE:0
CREATED:20260329T152034
LAST-MODIFIED:20260329T152034
TRANSP:OPAQUE
DTEND:20260419T203000
LOCATION:
SUMMARY:KiKa: stark!
CLASS:PUBLIC
DESCRIPTION:
ORGANIZER:
DTSTAMP:20260420T041158
ATTACH:https://www.hinto.net/de/events/kika-stark!-19-04-2026-2015-e2793614-20.html
END:VEVENT
END:VCALENDAR
