BEGIN:VCALENDAR
VERSION:2.0
PRODID:hinto.net
X-PUBLISHED-TTL:P1W
BEGIN:VEVENT
UID:hinto.net-event_show-6898092
DTSTART:20261120T180000
SEQUENCE:0
CREATED:20260410T051439
LAST-MODIFIED:20260410T051439
TRANSP:OPAQUE

LOCATION:
SUMMARY:Karaoke Night
CLASS:PUBLIC
DESCRIPTION:
ORGANIZER:
DTSTAMP:20260419T171007
ATTACH:https://www.hinto.net/de/events/karaoke-night-20-11-2026-1800-e2823820-20.html
END:VEVENT
END:VCALENDAR
