BEGIN:VCALENDAR
VERSION:2.0
PRODID:hinto.net
X-PUBLISHED-TTL:P1W
BEGIN:VEVENT
UID:hinto.net-event_show-6925719
DTSTART:20260425T151500
SEQUENCE:0
CREATED:20260419T052318
LAST-MODIFIED:20260419T052318
TRANSP:OPAQUE

LOCATION:Espace 100 titres
SUMMARY:Jazz Day 2026
CLASS:PUBLIC
DESCRIPTION:
ORGANIZER:
DTSTAMP:20260420T051804
ATTACH:https://www.hinto.net/de/events/jazz-day-2026-25-04-2026-1515-espace-100-titres-sierre-e2847660-20.html
END:VEVENT
END:VCALENDAR
