BEGIN:VCALENDAR
VERSION:2.0
PRODID:hinto.net
X-PUBLISHED-TTL:P1W
BEGIN:VEVENT
UID:hinto.net-event_show-6718024
DTSTART:20260517T100000
SEQUENCE:0
CREATED:20260215T072235
LAST-MODIFIED:20260215T072235
TRANSP:OPAQUE
DTEND:20260517T170000
LOCATION:Schloss Wildegg
SUMMARY:Internationaler Museumstag
CLASS:PUBLIC
DESCRIPTION:
ORGANIZER:
DTSTAMP:20260419T222829
ATTACH:https://www.hinto.net/de/events/internationaler-museumstag-17-05-2026-1000-schloss-wildegg-wildegg-e2681874-20.html
END:VEVENT
END:VCALENDAR
