BEGIN:VCALENDAR
VERSION:2.0
PRODID:hinto.net
X-PUBLISHED-TTL:P1W
BEGIN:VEVENT
UID:hinto.net-event_show-6925111
DTSTART:20260512T090000
SEQUENCE:0
CREATED:20260419T051948
LAST-MODIFIED:20260419T051948
TRANSP:OPAQUE
DTEND:20260512T110000
LOCATION:Brache Lachen
SUMMARY:HEKS Gartentreffen
CLASS:PUBLIC
DESCRIPTION:
ORGANIZER:
DTSTAMP:20260420T003449
ATTACH:https://www.hinto.net/de/events/heks-gartentreffen-12-05-2026-0900-brache-lachen-st-gallen-e2847284-20.html
END:VEVENT
END:VCALENDAR
