BEGIN:VCALENDAR
VERSION:2.0
PRODID:hinto.net
X-PUBLISHED-TTL:P1W
BEGIN:VEVENT
UID:hinto.net-event_show-6751898
DTSTART:20260530T130000
SEQUENCE:0
CREATED:20260226T052401
LAST-MODIFIED:20260226T052401
TRANSP:OPAQUE
DTEND:20260530T140000
LOCATION:Schloss Wildegg
SUMMARY:Führung durch den Barockgarten
CLASS:PUBLIC
DESCRIPTION:
ORGANIZER:
DTSTAMP:20260420T034653
ATTACH:https://www.hinto.net/de/events/fuehrung-durch-den-barockgarten-30-05-2026-1300-schloss-wildegg-wildegg-e2624885-20.html
END:VEVENT
END:VCALENDAR
