BEGIN:VCALENDAR
VERSION:2.0
PRODID:hinto.net
X-PUBLISHED-TTL:P1W
BEGIN:VEVENT
UID:hinto.net-event_show-6907127
DTSTART:20260426T120000
SEQUENCE:0
CREATED:20260413T063830
LAST-MODIFIED:20260413T063830
TRANSP:OPAQUE

LOCATION:
SUMMARY:Festival Existe
CLASS:PUBLIC
DESCRIPTION:
ORGANIZER:
DTSTAMP:20260419T185624
ATTACH:https://www.hinto.net/de/events/festival-existe-26-04-2026-1200-e2831998-20.html
END:VEVENT
END:VCALENDAR
