BEGIN:VCALENDAR
VERSION:2.0
PRODID:hinto.net
X-PUBLISHED-TTL:P1W
BEGIN:VEVENT
UID:hinto.net-event_show-6873374
DTSTART:20260422T231800
SEQUENCE:0
CREATED:20260402T052435
LAST-MODIFIED:20260402T052435
TRANSP:OPAQUE
DTEND:20260423T002000
LOCATION:
SUMMARY:DMAX: Top Guns - Helden am Himmel
CLASS:PUBLIC
DESCRIPTION:
ORGANIZER:
DTSTAMP:20260424T011514
ATTACH:https://www.hinto.net/de/events/dmax-top-guns-helden-am-himmel-22-04-2026-2318-e2801778-20.html
END:VEVENT
END:VCALENDAR
