BEGIN:VCALENDAR
VERSION:2.0
PRODID:hinto.net
X-PUBLISHED-TTL:P1W
BEGIN:VEVENT
UID:hinto.net-event_show-6863751
DTSTART:20260419T131500
SEQUENCE:0
CREATED:20260329T155737
LAST-MODIFIED:20260329T155737
TRANSP:OPAQUE
DTEND:20260419T151500
LOCATION:
SUMMARY:DMAX: Naked Survival XXL
CLASS:PUBLIC
DESCRIPTION:
ORGANIZER:
DTSTAMP:20260419T235842
ATTACH:https://www.hinto.net/de/events/dmax-naked-survival-xxl-19-04-2026-1315-e2794367-20.html
END:VEVENT
END:VCALENDAR
