BEGIN:VCALENDAR
VERSION:2.0
PRODID:hinto.net
X-PUBLISHED-TTL:P1W
BEGIN:VEVENT
UID:hinto.net-event_show-6863757
DTSTART:20260419T201500
SEQUENCE:0
CREATED:20260329T155741
LAST-MODIFIED:20260329T155741
TRANSP:OPAQUE
DTEND:20260419T211500
LOCATION:
SUMMARY:DMAX: Harpoon Hunters
CLASS:PUBLIC
DESCRIPTION:
ORGANIZER:
DTSTAMP:20260420T072327
ATTACH:https://www.hinto.net/de/events/dmax-harpoon-hunters-19-04-2026-2015-e2794373-20.html
END:VEVENT
END:VCALENDAR
