BEGIN:VCALENDAR
VERSION:2.0
PRODID:hinto.net
X-PUBLISHED-TTL:P1W
BEGIN:VEVENT
UID:hinto.net-event_show-6907131
DTSTART:20260424T200000
SEQUENCE:0
CREATED:20260413T063831
LAST-MODIFIED:20260413T063831
TRANSP:OPAQUE

LOCATION:Le Port Franc
SUMMARY:Café complet
CLASS:PUBLIC
DESCRIPTION:
ORGANIZER:
DTSTAMP:20260419T225159
ATTACH:https://www.hinto.net/de/events/cafe-complet-24-04-2026-2000-le-port-franc-sion-e2832001-20.html
END:VEVENT
END:VCALENDAR
