BEGIN:VCALENDAR
VERSION:2.0
PRODID:hinto.net
X-PUBLISHED-TTL:P1W
BEGIN:VEVENT
UID:hinto.net-event_show-6863700
DTSTART:20260419T131500
SEQUENCE:0
CREATED:20260329T155658
LAST-MODIFIED:20260329T155658
TRANSP:OPAQUE
DTEND:20260419T140000
LOCATION:
SUMMARY:BR: Versteckte Paradiese
CLASS:PUBLIC
DESCRIPTION:
ORGANIZER:
DTSTAMP:20260419T173749
ATTACH:https://www.hinto.net/de/events/br-versteckte-paradiese-19-04-2026-1315-e2794316-20.html
END:VEVENT
END:VCALENDAR
