BEGIN:VCALENDAR
VERSION:2.0
PRODID:hinto.net
X-PUBLISHED-TTL:P1W
BEGIN:VEVENT
UID:hinto.net-event_show-6863704
DTSTART:20260419T161500
SEQUENCE:0
CREATED:20260329T155701
LAST-MODIFIED:20260329T155701
TRANSP:OPAQUE
DTEND:20260419T164500
LOCATION:
SUMMARY:BR: Unser Land
CLASS:PUBLIC
DESCRIPTION:
ORGANIZER:
DTSTAMP:20260420T011411
ATTACH:https://www.hinto.net/de/events/br-unser-land-19-04-2026-1615-e2794320-20.html
END:VEVENT
END:VCALENDAR
