BEGIN:VCALENDAR
VERSION:2.0
PRODID:hinto.net
X-PUBLISHED-TTL:P1W
BEGIN:VEVENT
UID:hinto.net-event_show-6863699
DTSTART:20260419T124500
SEQUENCE:0
CREATED:20260329T155657
LAST-MODIFIED:20260329T155657
TRANSP:OPAQUE
DTEND:20260419T131500
LOCATION:
SUMMARY:BR: Querbeet
CLASS:PUBLIC
DESCRIPTION:
ORGANIZER:
DTSTAMP:20260419T173405
ATTACH:https://www.hinto.net/de/events/br-querbeet-19-04-2026-1245-e2794315-20.html
END:VEVENT
END:VCALENDAR
