BEGIN:VCALENDAR
VERSION:2.0
PRODID:hinto.net
X-PUBLISHED-TTL:P1W
BEGIN:VEVENT
UID:hinto.net-event_show-6860357
DTSTART:20260419T043000
SEQUENCE:0
CREATED:20260328T060822
LAST-MODIFIED:20260328T060822
TRANSP:OPAQUE
DTEND:20260419T050000
LOCATION:
SUMMARY:BR: Kunst + Krempel
CLASS:PUBLIC
DESCRIPTION:
ORGANIZER:
DTSTAMP:20260419T173702
ATTACH:https://www.hinto.net/de/events/br-kunst-+-krempel-19-04-2026-0430-e2791536-20.html
END:VEVENT
END:VCALENDAR
