BEGIN:VCALENDAR
VERSION:2.0
PRODID:hinto.net
X-PUBLISHED-TTL:P1W
BEGIN:VEVENT
UID:hinto.net-event_show-6863688
DTSTART:20260419T050000
SEQUENCE:0
CREATED:20260329T155558
LAST-MODIFIED:20260329T155558
TRANSP:OPAQUE
DTEND:20260419T053500
LOCATION:
SUMMARY:BR: Deutschlands schönste Schlösser
CLASS:PUBLIC
DESCRIPTION:
ORGANIZER:
DTSTAMP:20260420T100147
ATTACH:https://www.hinto.net/de/events/br-deutschlands-schoenste-schloesser-19-04-2026-0500-e2794304-20.html
END:VEVENT
END:VCALENDAR
