BEGIN:VCALENDAR
VERSION:2.0
PRODID:hinto.net
X-PUBLISHED-TTL:P1W
BEGIN:VEVENT
UID:hinto.net-event_show-6906687
DTSTART:20260503T184500
SEQUENCE:0
CREATED:20260412T145718
LAST-MODIFIED:20260412T145718
TRANSP:OPAQUE
DTEND:20260503T191500
LOCATION:
SUMMARY:BR: Bergauf-Bergab
CLASS:PUBLIC
DESCRIPTION:
ORGANIZER:
DTSTAMP:20260419T161601
ATTACH:https://www.hinto.net/de/events/br-bergauf-bergab-03-05-2026-1845-e2831654-20.html
END:VEVENT
END:VCALENDAR
