BEGIN:VCALENDAR
VERSION:2.0
PRODID:hinto.net
X-PUBLISHED-TTL:P1W
BEGIN:VEVENT
UID:hinto.net-event_show-6722845
DTSTART:20261122T100000
SEQUENCE:0
CREATED:20260216T094701
LAST-MODIFIED:20260216T094701
TRANSP:OPAQUE
DTEND:20261122T160000
LOCATION:Bibliothek Buchs
SUMMARY:Books & Dragons
CLASS:PUBLIC
DESCRIPTION:
ORGANIZER:
DTSTAMP:20260426T062646
ATTACH:https://www.hinto.net/de/events/books-dragons-22-11-2026-1000-bibliothek-buchs-buchs-sg-e2686589-20.html
END:VEVENT
END:VCALENDAR
