BEGIN:VCALENDAR
VERSION:2.0
PRODID:hinto.net
X-PUBLISHED-TTL:P1W
BEGIN:VEVENT
UID:hinto.net-event_show-6722843
DTSTART:20260607T100000
SEQUENCE:0
CREATED:20260216T094701
LAST-MODIFIED:20260216T094701
TRANSP:OPAQUE
DTEND:20260607T160000
LOCATION:Bibliothek Buchs
SUMMARY:Books & Dragons
CLASS:PUBLIC
DESCRIPTION:
ORGANIZER:
DTSTAMP:20260425T165044
ATTACH:https://www.hinto.net/de/events/books-dragons-07-06-2026-1000-bibliothek-buchs-buchs-sg-e2686589-20.html
END:VEVENT
END:VCALENDAR
